BEGIN:VCALENDAR
PRODID:-//AT Content Types//AT Event//EN
VERSION:1.0
BEGIN:VEVENT
DTSTART:20140611T080000Z
DTEND:20140611T103000Z
DCREATED:20140526T090541Z
UID:ATEvent-364152e6-407c-4500-9018-2c1384d2bf86
SEQUENCE:0
LAST-MODIFIED:20140611T082644Z
SUMMARY:First follow-up committee meeting
LOCATION:BELSPO\, 231 Avenue Louise\, 1050 Brussels
PRIORITY:3
TRANSP:0
END:VEVENT
END:VCALENDAR
